BEGIN:VCALENDAR
VERSION:2.0
PRODID:-//pretix//pretix.eu//
BEGIN:VTIMEZONE
TZID:Europe/Berlin
BEGIN:STANDARD
DTSTART:20001029T040000
RRULE:FREQ=YEARLY;BYDAY=-1SU;BYMONTH=10
TZNAME:CET
TZOFFSETFROM:+0200
TZOFFSETTO:+0100
END:STANDARD
BEGIN:DAYLIGHT
DTSTART:20000326T030000
RRULE:FREQ=YEARLY;BYDAY=-1SU;BYMONTH=3
TZNAME:CEST
TZOFFSETFROM:+0100
TZOFFSETTO:+0200
END:DAYLIGHT
END:VTIMEZONE
BEGIN:VEVENT
UID:pretix-td-lank07-1-herren-4734274@td-lank07.vereinsticket.de
DTSTART;TZID=Europe/Berlin:20251115T200000
DTEND;TZID=Europe/Berlin:20251115T210000
DESCRIPTION:Tickets: https://td-lank07.vereinsticket.de/1-herren/4734274/\n
 Veranstalter: TuS Treudeutsch 07 Lank e. V.
DTSTAMP:20260425T213847Z
LOCATION:Forstenberghalle\, Wittenberger Straße\, 40668 Meerbusch
SUMMARY:TD Lank - Meerbuscher HV
END:VEVENT
END:VCALENDAR
